BEGIN:VCALENDAR
VERSION:2.0
PRODID:-//RCDNSEE - ECPv6.5.0.1//NONSGML v1.0//EN
CALSCALE:GREGORIAN
METHOD:PUBLISH
X-ORIGINAL-URL:https://rcdnsee.net
X-WR-CALDESC:Events for RCDNSEE
REFRESH-INTERVAL;VALUE=DURATION:PT1H
X-Robots-Tag:noindex
X-PUBLISHED-TTL:PT1H
BEGIN:VTIMEZONE
TZID:UTC
BEGIN:STANDARD
TZOFFSETFROM:+0000
TZOFFSETTO:+0000
TZNAME:UTC
DTSTART:20240101T000000
END:STANDARD
END:VTIMEZONE
BEGIN:VEVENT
DTSTART;VALUE=DATE:20240730
DTEND;VALUE=DATE:20240731
DTSTAMP:20260422T212257
CREATED:20240702T152651Z
LAST-MODIFIED:20240702T152651Z
UID:4471-1722297600-1722383999@rcdnsee.net
SUMMARY:Final Training - WATER SAFETY PLAN AND CRISIS MANAGEMENT PROGRAM
DESCRIPTION:WATER SAFETY PLAN AND CRISIS MANAGEMENT PROGRAM\nFinal Training: 30 July\, 2024 in Korca
URL:https://rcdnsee.net/event/final-training-water-safety-plan-and-crisis-management-program/
ORGANIZER;CN="SHUKALB":MAILTO:info@test.mk
END:VEVENT
END:VCALENDAR