BEGIN:VCALENDAR
VERSION:2.0
PRODID:-//RCDNSEE - ECPv6.5.0.1//NONSGML v1.0//EN
CALSCALE:GREGORIAN
METHOD:PUBLISH
X-ORIGINAL-URL:https://rcdnsee.net
X-WR-CALDESC:Events for RCDNSEE
REFRESH-INTERVAL;VALUE=DURATION:PT1H
X-Robots-Tag:noindex
X-PUBLISHED-TTL:PT1H
BEGIN:VTIMEZONE
TZID:UTC
BEGIN:STANDARD
TZOFFSETFROM:+0000
TZOFFSETTO:+0000
TZNAME:UTC
DTSTART:20240101T000000
END:STANDARD
END:VTIMEZONE
BEGIN:VEVENT
DTSTART;VALUE=DATE:20241009
DTEND;VALUE=DATE:20241012
DTSTAMP:20260422T180535
CREATED:20240812T081526Z
LAST-MODIFIED:20240812T081526Z
UID:4518-1728432000-1728691199@rcdnsee.net
SUMMARY:Montenegro Water Conference
DESCRIPTION:
URL:https://rcdnsee.net/event/montenegro-water-conference/
LOCATION:Hotel “Mediteran” Budva\, Montenegro
END:VEVENT
END:VCALENDAR