BEGIN:VCALENDAR
VERSION:2.0
PRODID:-//RCDNSEE - ECPv6.5.0.1//NONSGML v1.0//EN
CALSCALE:GREGORIAN
METHOD:PUBLISH
X-ORIGINAL-URL:https://rcdnsee.net
X-WR-CALDESC:Events for RCDNSEE
REFRESH-INTERVAL;VALUE=DURATION:PT1H
X-Robots-Tag:noindex
X-PUBLISHED-TTL:PT1H
BEGIN:VTIMEZONE
TZID:UTC
BEGIN:STANDARD
TZOFFSETFROM:+0000
TZOFFSETTO:+0000
TZNAME:UTC
DTSTART:20240101T000000
END:STANDARD
END:VTIMEZONE
BEGIN:VEVENT
DTSTART;VALUE=DATE:20241016
DTEND;VALUE=DATE:20241018
DTSTAMP:20260422T180443
CREATED:20240826T083742Z
LAST-MODIFIED:20240826T083742Z
UID:4523-1729036800-1729209599@rcdnsee.net
SUMMARY:5 th INTERNATIONAL CONFERENCE - EFFICIENT AND SUSTAINABLE WATER SERVICES
DESCRIPTION:Association for Water and Environmental Protection Sector “Aquasan Network in BiH” is organizing two-day Conference “Efficient and Sustainable Water Services”. The Conference will be held on 16 and 17 October 2024 in Neum\, Grand Hotel Neum.
URL:https://rcdnsee.net/event/5-th-international-conference-efficient-and-sustainable-water-services/
END:VEVENT
END:VCALENDAR