BEGIN:VCALENDAR
VERSION:2.0
PRODID:-//RCDNSEE - ECPv6.5.0.1//NONSGML v1.0//EN
CALSCALE:GREGORIAN
METHOD:PUBLISH
X-WR-CALNAME:RCDNSEE
X-ORIGINAL-URL:https://rcdnsee.net
X-WR-CALDESC:Events for RCDNSEE
REFRESH-INTERVAL;VALUE=DURATION:PT1H
X-Robots-Tag:noindex
X-PUBLISHED-TTL:PT1H
BEGIN:VTIMEZONE
TZID:UTC
BEGIN:STANDARD
TZOFFSETFROM:+0000
TZOFFSETTO:+0000
TZNAME:UTC
DTSTART:20250101T000000
END:STANDARD
END:VTIMEZONE
BEGIN:VEVENT
DTSTART;TZID=UTC:20250128T080000
DTEND;TZID=UTC:20250129T170000
DTSTAMP:20260422T113954
CREATED:20250109T133511Z
LAST-MODIFIED:20250109T133511Z
UID:4736-1738051200-1738170000@rcdnsee.net
SUMMARY:2nd Workshop - Access to Financing Program (D-LeaP)
DESCRIPTION:
URL:https://rcdnsee.net/event/2nd-workshop-access-to-financing-program-d-leap/
LOCATION:North Macedonia\, North Macedonia
END:VEVENT
END:VCALENDAR