BEGIN:VCALENDAR
VERSION:2.0
PRODID:-//RCDNSEE - ECPv6.5.0.1//NONSGML v1.0//EN
CALSCALE:GREGORIAN
METHOD:PUBLISH
X-ORIGINAL-URL:https://rcdnsee.net
X-WR-CALDESC:Events for RCDNSEE
REFRESH-INTERVAL;VALUE=DURATION:PT1H
X-Robots-Tag:noindex
X-PUBLISHED-TTL:PT1H
BEGIN:VTIMEZONE
TZID:UTC
BEGIN:STANDARD
TZOFFSETFROM:+0000
TZOFFSETTO:+0000
TZNAME:UTC
DTSTART:20250101T000000
END:STANDARD
END:VTIMEZONE
BEGIN:VEVENT
DTSTART;TZID=UTC:20250217T080000
DTEND;TZID=UTC:20250221T170000
DTSTAMP:20260420T110953
CREATED:20241230T142231Z
LAST-MODIFIED:20241230T142231Z
UID:4706-1739779200-1740157200@rcdnsee.net
SUMMARY:IAWD - Utility Governance Program
DESCRIPTION:
URL:https://rcdnsee.net/event/iawd-utility-governance-program/
LOCATION:Timisoara\, Romania
END:VEVENT
END:VCALENDAR