BEGIN:VCALENDAR
VERSION:2.0
PRODID:-//RCDNSEE - ECPv6.5.0.1//NONSGML v1.0//EN
CALSCALE:GREGORIAN
METHOD:PUBLISH
X-ORIGINAL-URL:https://rcdnsee.net
X-WR-CALDESC:Events for RCDNSEE
REFRESH-INTERVAL;VALUE=DURATION:PT1H
X-Robots-Tag:noindex
X-PUBLISHED-TTL:PT1H
BEGIN:VTIMEZONE
TZID:UTC
BEGIN:STANDARD
TZOFFSETFROM:+0000
TZOFFSETTO:+0000
TZNAME:UTC
DTSTART:20250101T000000
END:STANDARD
END:VTIMEZONE
BEGIN:VEVENT
DTSTART;VALUE=DATE:20250310
DTEND;VALUE=DATE:20250313
DTSTAMP:20260415T233049
CREATED:20250220T095952Z
LAST-MODIFIED:20250220T095952Z
UID:4761-1741564800-1741823999@rcdnsee.net
SUMMARY:NALAS Task Force Meeting
DESCRIPTION:Meeting of NALAS TF on Water management
URL:https://rcdnsee.net/event/nalas-task-force-meeting/
LOCATION:Belgrade
END:VEVENT
END:VCALENDAR