BEGIN:VCALENDAR
VERSION:2.0
PRODID:-//RCDNSEE - ECPv6.5.0.1//NONSGML v1.0//EN
CALSCALE:GREGORIAN
METHOD:PUBLISH
X-ORIGINAL-URL:https://rcdnsee.net
X-WR-CALDESC:Events for RCDNSEE
REFRESH-INTERVAL;VALUE=DURATION:PT1H
X-Robots-Tag:noindex
X-PUBLISHED-TTL:PT1H
BEGIN:VTIMEZONE
TZID:UTC
BEGIN:STANDARD
TZOFFSETFROM:+0000
TZOFFSETTO:+0000
TZNAME:UTC
DTSTART:20250101T000000
END:STANDARD
END:VTIMEZONE
BEGIN:VEVENT
DTSTART;VALUE=DATE:20250410
DTEND;VALUE=DATE:20250412
DTSTAMP:20260422T082948
CREATED:20250403T124434Z
LAST-MODIFIED:20250403T124434Z
UID:4803-1744243200-1744415999@rcdnsee.net
SUMMARY:2nd Access to Financing Training
DESCRIPTION:
URL:https://rcdnsee.net/event/2nd-access-to-financing-training/
LOCATION:Dojran
END:VEVENT
END:VCALENDAR