BEGIN:VCALENDAR
VERSION:2.0
PRODID:-//RCDNSEE - ECPv6.5.0.1//NONSGML v1.0//EN
CALSCALE:GREGORIAN
METHOD:PUBLISH
X-WR-CALNAME:RCDNSEE
X-ORIGINAL-URL:https://rcdnsee.net
X-WR-CALDESC:Events for RCDNSEE
REFRESH-INTERVAL;VALUE=DURATION:PT1H
X-Robots-Tag:noindex
X-PUBLISHED-TTL:PT1H
BEGIN:VTIMEZONE
TZID:UTC
BEGIN:STANDARD
TZOFFSETFROM:+0000
TZOFFSETTO:+0000
TZNAME:UTC
DTSTART:20250101T000000
END:STANDARD
END:VTIMEZONE
BEGIN:VEVENT
DTSTART;VALUE=DATE:20250423
DTEND;VALUE=DATE:20250425
DTSTAMP:20260422T082815
CREATED:20250326T094022Z
LAST-MODIFIED:20250326T094022Z
UID:4798-1745366400-1745539199@rcdnsee.net
SUMMARY:INTERNATIONAL WATER CONFERENCE Sustainable Development in the Water Services Sector
DESCRIPTION:
URL:https://rcdnsee.net/event/international-water-conference-sustainable-development-in-the-water-services-sector/
LOCATION:hotel Termag\, Jahorina\, Jahorina\, Bosnia and Herzegovina
END:VEVENT
END:VCALENDAR