BEGIN:VCALENDAR
VERSION:2.0
PRODID:-//RCDNSEE - ECPv6.5.0.1//NONSGML v1.0//EN
CALSCALE:GREGORIAN
METHOD:PUBLISH
X-ORIGINAL-URL:https://rcdnsee.net
X-WR-CALDESC:Events for RCDNSEE
REFRESH-INTERVAL;VALUE=DURATION:PT1H
X-Robots-Tag:noindex
X-PUBLISHED-TTL:PT1H
BEGIN:VTIMEZONE
TZID:UTC
BEGIN:STANDARD
TZOFFSETFROM:+0000
TZOFFSETTO:+0000
TZNAME:UTC
DTSTART:20250101T000000
END:STANDARD
END:VTIMEZONE
BEGIN:VEVENT
DTSTART;VALUE=DATE:20250514
DTEND;VALUE=DATE:20250517
DTSTAMP:20260422T034404
CREATED:20250220T151129Z
LAST-MODIFIED:20250220T151129Z
UID:4767-1747180800-1747439999@rcdnsee.net
SUMMARY:Conference on water supply systems
DESCRIPTION:
URL:https://rcdnsee.net/event/conference-on-water-supply-systems/
LOCATION:Banja Koviljaca
END:VEVENT
BEGIN:VEVENT
DTSTART;VALUE=DATE:20250514
DTEND;VALUE=DATE:20250517
DTSTAMP:20260422T034404
CREATED:20250220T151307Z
LAST-MODIFIED:20250220T151307Z
UID:4770-1747180800-1747439999@rcdnsee.net
SUMMARY:Danube Water Conference
DESCRIPTION:
URL:https://rcdnsee.net/event/danube-water-conference/
LOCATION:Vienna\, Austria
END:VEVENT
END:VCALENDAR