BEGIN:VCALENDAR
VERSION:2.0
PRODID:-//RCDNSEE - ECPv6.5.0.1//NONSGML v1.0//EN
CALSCALE:GREGORIAN
METHOD:PUBLISH
X-ORIGINAL-URL:https://rcdnsee.net
X-WR-CALDESC:Events for RCDNSEE
REFRESH-INTERVAL;VALUE=DURATION:PT1H
X-Robots-Tag:noindex
X-PUBLISHED-TTL:PT1H
BEGIN:VTIMEZONE
TZID:UTC
BEGIN:STANDARD
TZOFFSETFROM:+0000
TZOFFSETTO:+0000
TZNAME:UTC
DTSTART:20250101T000000
END:STANDARD
END:VTIMEZONE
BEGIN:VEVENT
DTSTART;TZID=UTC:20250611T080000
DTEND;TZID=UTC:20250613T170000
DTSTAMP:20260421T103805
CREATED:20241230T142705Z
LAST-MODIFIED:20241230T142705Z
UID:4710-1749628800-1749834000@rcdnsee.net
SUMMARY:ADKOM - International Conference on "The Future of the Utility Sector"
DESCRIPTION:
URL:https://rcdnsee.net/event/adkom-international-conference-on-the-future-of-the-utility-sector/
LOCATION:Ohrid\, Ohrid
END:VEVENT
END:VCALENDAR