BEGIN:VCALENDAR
VERSION:2.0
PRODID:-//RCDNSEE - ECPv6.5.0.1//NONSGML v1.0//EN
CALSCALE:GREGORIAN
METHOD:PUBLISH
X-ORIGINAL-URL:https://rcdnsee.net
X-WR-CALDESC:Events for RCDNSEE
REFRESH-INTERVAL;VALUE=DURATION:PT1H
X-Robots-Tag:noindex
X-PUBLISHED-TTL:PT1H
BEGIN:VTIMEZONE
TZID:UTC
BEGIN:STANDARD
TZOFFSETFROM:+0000
TZOFFSETTO:+0000
TZNAME:UTC
DTSTART:20250101T000000
END:STANDARD
END:VTIMEZONE
BEGIN:VEVENT
DTSTART;VALUE=DATE:20250721
DTEND;VALUE=DATE:20250726
DTSTAMP:20260418T111009
CREATED:20250717T104323Z
LAST-MODIFIED:20250717T104323Z
UID:4956-1753056000-1753487999@rcdnsee.net
SUMMARY:RCDN Master ToT
DESCRIPTION:
URL:https://rcdnsee.net/event/rcdn-master-tot/
LOCATION:Skopje\, Macedonia\, Skopje\, North Macedonia
END:VEVENT
END:VCALENDAR