BEGIN:VCALENDAR
VERSION:2.0
PRODID:-//RCDNSEE - ECPv6.5.0.1//NONSGML v1.0//EN
CALSCALE:GREGORIAN
METHOD:PUBLISH
X-WR-CALNAME:RCDNSEE
X-ORIGINAL-URL:https://rcdnsee.net
X-WR-CALDESC:Events for RCDNSEE
REFRESH-INTERVAL;VALUE=DURATION:PT1H
X-Robots-Tag:noindex
X-PUBLISHED-TTL:PT1H
BEGIN:VTIMEZONE
TZID:UTC
BEGIN:STANDARD
TZOFFSETFROM:+0000
TZOFFSETTO:+0000
TZNAME:UTC
DTSTART:20240101T000000
END:STANDARD
END:VTIMEZONE
BEGIN:VEVENT
DTSTART;VALUE=DATE:20240403
DTEND;VALUE=DATE:20240406
DTSTAMP:20260421T130129
CREATED:20240301T122610Z
LAST-MODIFIED:20240401T102339Z
UID:3114-1712102400-1712361599@rcdnsee.net
SUMMARY:UTVSI Conference: Wastewater\, solid waste\, and hazardous waste
DESCRIPTION:Hotel “Sumarice”\, Kragujevac \nUTVSI Conference – Wastewater\, solid waste\, and hazardous waste; 3 -5 April \n\n\n\nThe 53rd Conference for municipal and industrial wastewater\, municipal solid waste and hazardous waste will be held in Kragujevac. The conference is intended for gathering and connecting operators\, practitioners\, and consultants on one side and scientific researchers\, manufactures on the other; in order to present new ideas\, technology and exchange of opinions and practical experiences.
URL:https://rcdnsee.net/event/conference-wastewater-solid-waste-and-hazardous-waste/
LOCATION:Hotel Sumarice\, Kragujevac\, Kraggujevac\, Serbia
CATEGORIES:New Event
ATTACH;FMTTYPE=image/webp:https://rcdnsee.net/wp-content/uploads/2024/02/FetureImage2-05.webp
END:VEVENT
BEGIN:VEVENT
DTSTART;VALUE=DATE:20240418
DTEND;VALUE=DATE:20240420
DTSTAMP:20260421T130129
CREATED:20240318T103934Z
LAST-MODIFIED:20240318T103934Z
UID:3927-1713398400-1713571199@rcdnsee.net
SUMMARY:NALAS General Assembly
DESCRIPTION:
URL:https://rcdnsee.net/event/nalas-general-assembly/
LOCATION:Bar\, Montenegro\, Bar\, Montenegro
CATEGORIES:New Event
END:VEVENT
END:VCALENDAR