BEGIN:VCALENDAR
VERSION:2.0
PRODID:-//RCDNSEE - ECPv6.5.0.1//NONSGML v1.0//EN
CALSCALE:GREGORIAN
METHOD:PUBLISH
X-WR-CALNAME:RCDNSEE
X-ORIGINAL-URL:https://rcdnsee.net
X-WR-CALDESC:Events for RCDNSEE
REFRESH-INTERVAL;VALUE=DURATION:PT1H
X-Robots-Tag:noindex
X-PUBLISHED-TTL:PT1H
BEGIN:VTIMEZONE
TZID:UTC
BEGIN:STANDARD
TZOFFSETFROM:+0000
TZOFFSETTO:+0000
TZNAME:UTC
DTSTART:20240101T000000
END:STANDARD
END:VTIMEZONE
BEGIN:VEVENT
DTSTART;VALUE=DATE:20240521
DTEND;VALUE=DATE:20240523
DTSTAMP:20260421T113007
CREATED:20240313T102009Z
LAST-MODIFIED:20240403T120804Z
UID:3670-1716249600-1716422399@rcdnsee.net
SUMMARY:Capital Infrastructure Investment Projects in the Water Sector
DESCRIPTION:TRAINING AND PEER EXCHANGE ON CAPITAL INVESTMENT INFRASTRUCTURE PROJECTS RELATED TO WATER SUPPLY INVESTMENTS
URL:https://rcdnsee.net/event/capital-infrastructure-investment-projects-in-the-water-sector/
LOCATION:Prishtina\, Kosovo\, Magjistralja Prishtinë - Ferizaj\, km. i 5-të\, Prishtina\, Kosovo\, 10000
CATEGORIES:New Event
ATTACH;FMTTYPE=image/png:https://rcdnsee.net/wp-content/uploads/2024/03/FetureImageEvents-01.png
ORGANIZER;CN="SHUKALB":MAILTO:info@test.mk
END:VEVENT
BEGIN:VEVENT
DTSTART;VALUE=DATE:20240529
DTEND;VALUE=DATE:20240531
DTSTAMP:20260421T113007
CREATED:20240301T124624Z
LAST-MODIFIED:20240428T062338Z
UID:3142-1716940800-1717113599@rcdnsee.net
SUMMARY:Danube Water Forum "Riding the wave: Water Sector Innovations for a new Climate Reality"
DESCRIPTION:
URL:https://rcdnsee.net/event/danube-water-from-riding-the-wave-water-sector-innovations-for-a-new-climate-reality/
LOCATION:Brasov\, Romania\, Brasov\, Romania
CATEGORIES:New Event
END:VEVENT
BEGIN:VEVENT
DTSTART;VALUE=DATE:20240529
DTEND;VALUE=DATE:20240601
DTSTAMP:20260421T113007
CREATED:20240301T125027Z
LAST-MODIFIED:20240428T062454Z
UID:3149-1716940800-1717199999@rcdnsee.net
SUMMARY:Conference WATER AND SEWAGE SYSTEMS
DESCRIPTION:
URL:https://rcdnsee.net/event/conference-water-and-sewage-systems/
LOCATION:Banja Koviljaca\, Serbia\, Banja Koviljaca\, Serbia
CATEGORIES:New Event
END:VEVENT
END:VCALENDAR