BEGIN:VCALENDAR
VERSION:2.0
PRODID:-//RCDNSEE - ECPv6.5.0.1//NONSGML v1.0//EN
CALSCALE:GREGORIAN
METHOD:PUBLISH
X-WR-CALNAME:RCDNSEE
X-ORIGINAL-URL:https://rcdnsee.net
X-WR-CALDESC:Events for RCDNSEE
REFRESH-INTERVAL;VALUE=DURATION:PT1H
X-Robots-Tag:noindex
X-PUBLISHED-TTL:PT1H
BEGIN:VTIMEZONE
TZID:UTC
BEGIN:STANDARD
TZOFFSETFROM:+0000
TZOFFSETTO:+0000
TZNAME:UTC
DTSTART:20240101T000000
END:STANDARD
END:VTIMEZONE
BEGIN:VEVENT
DTSTART;VALUE=DATE:20240308
DTEND;VALUE=DATE:20240309
DTSTAMP:20260421T161751
CREATED:20240301T121347Z
LAST-MODIFIED:20240301T131610Z
UID:3103-1709856000-1709942399@rcdnsee.net
SUMMARY:SHUKOS Assembly
DESCRIPTION:Prishtina
URL:https://rcdnsee.net/event/shukos-assembly/
LOCATION:Prishtina\, Kosovo\, Magjistralja Prishtinë - Ferizaj\, km. i 5-të\, Prishtina\, Kosovo\, 10000
CATEGORIES:New Event
END:VEVENT
END:VCALENDAR