BEGIN:VCALENDAR
VERSION:2.0
PRODID:-//RCDNSEE - ECPv6.5.0.1//NONSGML v1.0//EN
CALSCALE:GREGORIAN
METHOD:PUBLISH
X-WR-CALNAME:RCDNSEE
X-ORIGINAL-URL:https://rcdnsee.net
X-WR-CALDESC:Events for RCDNSEE
REFRESH-INTERVAL;VALUE=DURATION:PT1H
X-Robots-Tag:noindex
X-PUBLISHED-TTL:PT1H
BEGIN:VTIMEZONE
TZID:UTC
BEGIN:STANDARD
TZOFFSETFROM:+0000
TZOFFSETTO:+0000
TZNAME:UTC
DTSTART:20240101T000000
END:STANDARD
END:VTIMEZONE
BEGIN:VEVENT
DTSTART;VALUE=DATE:20240326
DTEND;VALUE=DATE:20240327
DTSTAMP:20260421T161952
CREATED:20240307T153247Z
LAST-MODIFIED:20240307T153247Z
UID:3408-1711411200-1711497599@rcdnsee.net
SUMMARY:Peer exchange: Sustainable waste management and the role of utility companies in the circular economy
DESCRIPTION:
URL:https://rcdnsee.net/event/peer-exchange-sustainable-waste-management-and-the-role-of-utility-companies-in-the-circular-economy/
LOCATION:Hotel Kostelski Buk\, Bihac\, Kostela BB\, Bihac\, 77000\, Bosnia and Herzegovina
CATEGORIES:New Event
END:VEVENT
END:VCALENDAR