BEGIN:VCALENDAR
VERSION:2.0
PRODID:-//RCDNSEE - ECPv6.5.0.1//NONSGML v1.0//EN
CALSCALE:GREGORIAN
METHOD:PUBLISH
X-ORIGINAL-URL:https://rcdnsee.net
X-WR-CALDESC:Events for RCDNSEE
REFRESH-INTERVAL;VALUE=DURATION:PT1H
X-Robots-Tag:noindex
X-PUBLISHED-TTL:PT1H
BEGIN:VTIMEZONE
TZID:UTC
BEGIN:STANDARD
TZOFFSETFROM:+0000
TZOFFSETTO:+0000
TZNAME:UTC
DTSTART:20240101T000000
END:STANDARD
END:VTIMEZONE
BEGIN:VEVENT
DTSTART;VALUE=DATE:20240529
DTEND;VALUE=DATE:20240601
DTSTAMP:20260421T113335
CREATED:20240301T125027Z
LAST-MODIFIED:20240428T062454Z
UID:3149-1716940800-1717199999@rcdnsee.net
SUMMARY:Conference WATER AND SEWAGE SYSTEMS
DESCRIPTION:
URL:https://rcdnsee.net/event/conference-water-and-sewage-systems/
LOCATION:Banja Koviljaca\, Serbia\, Banja Koviljaca\, Serbia
CATEGORIES:New Event
END:VEVENT
END:VCALENDAR